BEGIN:VCALENDAR
VERSION:2.0
PRODID:Events Booking
BEGIN:VEVENT
UID:69e771b28313a
SUMMARY:Hamburg
DESCRIPTION:Wir folgen der Einladung von DVRI\, mit ihnen das Logo zu rocke
 n
LOCATION:Grindelallee\, Hamburg\, 20146\, Deutschland
DTSTART:20251207T180000Z
DTSTAMP:20251027T200847Z
ORGANIZER;CN=FROLLEIN MOTTE:MAILTO:info@frolleinmotte.de
GEO:53.564514;9.9836
X-APPLE-STRUCTURED-LOCATION;VALUE=URI;X-ADDRESS=Grindelallee\, Hamburg\, 20
 146\, Deutschland;X-APPLE-RADIUS=72;X-TITLE=Logo:53.564514;9.9836
END:VEVENT
END:VCALENDAR